BEGIN:VCALENDAR
VERSION:2.0
PRODID:-//hacksw/handcal//NONSGML v1.0//EN
BEGIN:VEVENT
DTSTAMP:20181105T170000Z
DTSTART:20181105T170000Z
DTEND:20181105T190000Z
LOCATION:Rathaus Stadtmitte, Konrad-Adenauer-Platz 1, Bergisch Gladbach, 51465, Deutschland
SUMMARY:Fraktionssitzung
END:VEVENT
END:VCALENDAR
