BEGIN:VCALENDAR
VERSION:2.0
PRODID:-//hacksw/handcal//NONSGML v1.0//EN
BEGIN:VEVENT
DTSTAMP:20190916T180000Z
DTSTART:20190916T180000Z
DTEND:20190916T180000Z
SUMMARY:Vorstandssitzung des CDU-Ortsverbandes Bensberg/Moitzfeld
END:VEVENT
END:VCALENDAR
