BEGIN:VCALENDAR
VERSION:2.0
PRODID:-//hacksw/handcal//NONSGML v1.0//EN
BEGIN:VEVENT
DTSTAMP:20200115T140000Z
DTSTART:20200115T140000Z
DTEND:20200115T160000Z
LOCATION:Restaurant-Hotel-Café Gronauer Tannenhof, Robert-Schuman-Str. 2, Bergisch Gladbach, Deutschland
SUMMARY:Senioren-Union Mittwochstreff mit Dezernent Bernd Martmann
END:VEVENT
END:VCALENDAR
