BEGIN:VCALENDAR
VERSION:2.0
PRODID:-//hacksw/handcal//NONSGML v1.0//EN
BEGIN:VEVENT
DTSTAMP:20200219T140000Z
DTSTART:20200219T140000Z
DTEND:20200219T160000Z
LOCATION:Restaurant-Hotel-Café Gronauer Tannenhof, Robert-Schuman-Str. 2, Bergisch Gladbach, Deutschland
SUMMARY:Senioren-Union Mittwochstreff mit Dr. Hermann-Josef Tebroke MdB
END:VEVENT
END:VCALENDAR
