BEGIN:VCALENDAR
VERSION:2.0
PRODID:-//hacksw/handcal//NONSGML v1.0//EN
BEGIN:VEVENT
DTSTAMP:20201011T220000Z
DTSTART:20201011T220000Z
DTEND:20201024T220000Z
SUMMARY:Herbstferien
END:VEVENT
END:VCALENDAR
