BEGIN:VCALENDAR
VERSION:2.0
PRODID:-//hacksw/handcal//NONSGML v1.0//EN
BEGIN:VEVENT
DTSTAMP:20210310T180000Z
DTSTART:20210310T180000Z
DTEND:20210310T180000Z
LOCATION:Virtuell, Deutschland
SUMMARY:Arbeitskreis "Digitalisierung" II
END:VEVENT
END:VCALENDAR
