BEGIN:VCALENDAR
VERSION:2.0
PRODID:-//hacksw/handcal//NONSGML v1.0//EN
BEGIN:VEVENT
DTSTAMP:20210508T080000Z
DTSTART:20210508T080000Z
DTEND:20210508T080000Z
LOCATION:Bürgerhaus Bergischer Löwe, Konrad-Adenauer-Platz, Bergisch Gladbach, 51465, Deutschland
SUMMARY:73. Kreisparteitag und Wahlkreismitgliederversammlung Bundestagswahl / NEU
END:VEVENT
END:VCALENDAR
