BEGIN:VCALENDAR
VERSION:2.0
PRODID:-//hacksw/handcal//NONSGML v1.0//EN
BEGIN:VEVENT
DTSTAMP:20220810T160000Z
DTSTART:20220810T160000Z
DTEND:20220810T160000Z
LOCATION:vor der FHDW,  Hauptstr. 2, Bergisch Gladbach, 51465, Deutschland
SUMMARY:CDU-Sommerprogramm: „Zwischen Großstadt und Chill-out“  FHDW kennenlernen
END:VEVENT
END:VCALENDAR
